BEGIN:VCALENDAR
VERSION:2.0
PRODID:-//eventon.com NONSGML v1.0//EN
CALSCALE:GREGORIAN
METHOD:PUBLISH
BEGIN:VEVENT
UID:69e5e62a8ac2d
DTSTAMP:20260420T083906Z
DTSTART:20220116T170000Z
DTEND:20220116T190000Z
LOCATION:Brotzeitstube puppe&#039;s Am Brunnen 2\,  38700 Braunlage
SUMMARY:Brotzeit bei puppe's
DESCRIPTION:Sonntags bleibt die KÃ¼che kalt â€“ zumindest unsere. Hungern m
 uss trotzdem keiner. Wir bieten unseren HotelgÃ¤sten als Alternative ein Ex
 klusivangebot vom der Brotzeitstube puppe&#8217;s an. Treffpunkt fÃ¼r Wande
 rer\,  GÃ¤ste und Freunde aus Nah und Fern lÃ¤dt das puppe&#8217;s mit GemÃ
 ¼tlichkeit\,  WÃ¤rme und rustikaler Charme ein. Lasst es euch bei einer[..]
 \nhttps://theheartshotel.com/termine/brotzeit-im-puppes-10-2-3/var/ri-1.l-L
 1
URL:https://theheartshotel.com/termine/brotzeit-im-puppes-10-2-3/var/ri-1.l-L1
END:VEVENT
END:VCALENDAR