BEGIN:VCALENDAR
VERSION:2.0
PRODID:-//eventon.com NONSGML v1.0//EN
CALSCALE:GREGORIAN
METHOD:PUBLISH
BEGIN:VEVENT
UID:69e9de2d9c0ed
DTSTAMP:20260423T085405Z
DTSTART:20230308T084500Z
DTEND:20230308T140000Z
LOCATION:
SUMMARY:GEFÜHRTE WANDERUNG ZU ORTSFERNEN ZIELEN
DESCRIPTION:Wanderung zu ortsfernen Zielen Dauer: ca. 4-5 Stunden\,  Mittel
 schwere Wanderung Festes Schuhwerk erforderlich\,  Leichte Rucksackverpfleg
 ung empfohlen Mit Einkehr und evtl. Nutzung des ÖPNV Mindestteilnehmerzahl
 : 4 Personen Konkreter Streckenverlauf wird am Treffpunkt bekanntgegeben! W
 anderung findet bei jedem Wetter statt. Wanderführer: Jörg Kühnhold oder
  Axel Günther Treffpunkt: Tourist-Information Braunlage\,  Elbingeröder S
 traße 17[..]\nhttps://theheartshotel.com/termine/gefuehrte-wanderung-zu-or
 tsfernen-zielen/
URL:https://theheartshotel.com/termine/gefuehrte-wanderung-zu-ortsfernen-zielen/
END:VEVENT
END:VCALENDAR