BEGIN:VCALENDAR
VERSION:2.0
PRODID:-//eventon.com NONSGML v1.0//EN
CALSCALE:GREGORIAN
METHOD:PUBLISH
BEGIN:VEVENT
UID:69e5e6a153630
DTSTAMP:20260420T084105Z
DTSTART:20230616
DTEND:20230617
LOCATION:
SUMMARY:14. Osteroder City Beach Cup
DESCRIPTION:Bereits zm 14. mal wird der Kornmarkt vom 16-18.6. 23 eine Beac
 hvolleyball Hochburg\nhttps://theheartshotel.com/termine/14-osteroder-city-
 beach-cup/
URL:https://theheartshotel.com/termine/14-osteroder-city-beach-cup/
END:VEVENT
END:VCALENDAR