BEGIN:VCALENDAR
VERSION:2.0
PRODID:-//eventon.com NONSGML v1.0//EN
CALSCALE:GREGORIAN
METHOD:PUBLISH
BEGIN:VEVENT
UID:69e6238727b13
DTSTAMP:20260420T130055Z
DTSTART:20240818T110000Z
DTEND:20240818T193000Z
LOCATION:
SUMMARY:THEATERNATURFESTIVAL- Familienprogramm und großes Finale
DESCRIPTION:Am Sonntagmorgen beginnt das Programm um 11:00 Uhr mit dem Kind
 erstück Wolle im Wasser im WALD|STUDIO\,  gefolgt von einer Wiederholung u
 m 15:00 Uhr. Dieses Gastspiel des Musiktheaters Lupe\,  die bereits im letz
 ten Jahr begeistern konnten\,  er- zählt die Geschichte des Schafs Wolle\,
   das auf der Suche nach einer neuen Heimat[..]\nhttps://theheartshotel.com
 /termine/theaternaturfestival-ein-tag-voller-entdeckungen-2/
URL:https://theheartshotel.com/termine/theaternaturfestival-ein-tag-voller-entdeckungen-2/
END:VEVENT
END:VCALENDAR